BEGIN:VCALENDAR
VERSION:2.0
PRODID:-//Idaho Division of Vocational Rehabilitation - ECPv6.15.20//NONSGML v1.0//EN
CALSCALE:GREGORIAN
METHOD:PUBLISH
X-WR-CALNAME:Idaho Division of Vocational Rehabilitation
X-ORIGINAL-URL:https://vr.idaho.gov
X-WR-CALDESC:Events for Idaho Division of Vocational Rehabilitation
REFRESH-INTERVAL;VALUE=DURATION:PT1H
X-Robots-Tag:noindex
X-PUBLISHED-TTL:PT1H
BEGIN:VTIMEZONE
TZID:America/Boise
BEGIN:DAYLIGHT
TZOFFSETFROM:-0700
TZOFFSETTO:-0600
TZNAME:MDT
DTSTART:20240310T090000
END:DAYLIGHT
BEGIN:STANDARD
TZOFFSETFROM:-0600
TZOFFSETTO:-0700
TZNAME:MST
DTSTART:20241103T080000
END:STANDARD
BEGIN:DAYLIGHT
TZOFFSETFROM:-0700
TZOFFSETTO:-0600
TZNAME:MDT
DTSTART:20250309T090000
END:DAYLIGHT
BEGIN:STANDARD
TZOFFSETFROM:-0600
TZOFFSETTO:-0700
TZNAME:MST
DTSTART:20251102T080000
END:STANDARD
BEGIN:DAYLIGHT
TZOFFSETFROM:-0700
TZOFFSETTO:-0600
TZNAME:MDT
DTSTART:20260308T090000
END:DAYLIGHT
BEGIN:STANDARD
TZOFFSETFROM:-0600
TZOFFSETTO:-0700
TZNAME:MST
DTSTART:20261101T080000
END:STANDARD
BEGIN:DAYLIGHT
TZOFFSETFROM:-0700
TZOFFSETTO:-0600
TZNAME:MDT
DTSTART:20270314T090000
END:DAYLIGHT
BEGIN:STANDARD
TZOFFSETFROM:-0600
TZOFFSETTO:-0700
TZNAME:MST
DTSTART:20271107T080000
END:STANDARD
END:VTIMEZONE
BEGIN:VEVENT
DTSTART;TZID=America/Boise:20260102T110000
DTEND;TZID=America/Boise:20260102T140000
DTSTAMP:20260425T182200
CREATED:20260413T223459Z
LAST-MODIFIED:20260413T223459Z
UID:10001441-1767351600-1767362400@vr.idaho.gov
SUMMARY:CWI Career Fair in Nampa
DESCRIPTION:
URL:https://vr.idaho.gov/event/cwi-career-fair-in-nampa/
END:VEVENT
BEGIN:VEVENT
DTSTART;TZID=America/Boise:20260102T100000
DTEND;TZID=America/Boise:20260102T140000
DTSTAMP:20260425T182200
CREATED:20260413T223459Z
LAST-MODIFIED:20260413T223459Z
UID:10001439-1767348000-1767362400@vr.idaho.gov
SUMMARY:Idaho's Premier Job & Career Fair in Meridian
DESCRIPTION:
URL:https://vr.idaho.gov/event/idahos-premier-job-career-fair-in-meridian-4/
END:VEVENT
BEGIN:VEVENT
DTSTART;TZID=America/Boise:20260102T100000
DTEND;TZID=America/Boise:20260102T140000
DTSTAMP:20260425T182200
CREATED:20260413T223459Z
LAST-MODIFIED:20260413T223459Z
UID:10001442-1767348000-1767362400@vr.idaho.gov
SUMMARY:Boise State Spring Career Fair
DESCRIPTION:
URL:https://vr.idaho.gov/event/boise-state-spring-career-fair/
END:VEVENT
BEGIN:VEVENT
DTSTART;VALUE=DATE:20251230
DTEND;VALUE=DATE:20251231
DTSTAMP:20260425T182200
CREATED:20260413T223456Z
LAST-MODIFIED:20260413T223456Z
UID:10001424-1767052800-1767139199@vr.idaho.gov
SUMMARY:Resume Workshop and Sharpen Your Interview Skills - Post Falls
DESCRIPTION:
URL:https://vr.idaho.gov/event/resume-workshop-and-sharpen-your-interview-skills-post-falls-2/
END:VEVENT
BEGIN:VEVENT
DTSTART;VALUE=DATE:20251223
DTEND;VALUE=DATE:20251224
DTSTAMP:20260425T182200
CREATED:20260413T223456Z
LAST-MODIFIED:20260413T223456Z
UID:10001422-1766448000-1766534399@vr.idaho.gov
SUMMARY:Basic Computer Skills and Maximize Your Job Search - Post Falls
DESCRIPTION:
URL:https://vr.idaho.gov/event/basic-computer-skills-and-maximize-your-job-search-post-falls-4/
END:VEVENT
BEGIN:VEVENT
DTSTART;VALUE=DATE:20251223
DTEND;VALUE=DATE:20251224
DTSTAMP:20260425T182200
CREATED:20260413T223456Z
LAST-MODIFIED:20260413T223456Z
UID:10001423-1766448000-1766534399@vr.idaho.gov
SUMMARY:Basic Computer Skills - Lewiston
DESCRIPTION:
URL:https://vr.idaho.gov/event/basic-computer-skills-lewiston-2/
END:VEVENT
BEGIN:VEVENT
DTSTART;VALUE=DATE:20251216
DTEND;VALUE=DATE:20251217
DTSTAMP:20260425T182200
CREATED:20260413T223456Z
LAST-MODIFIED:20260413T223456Z
UID:10001420-1765843200-1765929599@vr.idaho.gov
SUMMARY:Resume Workshop and Sharpen Your Interview Skills - Post Falls
DESCRIPTION:
URL:https://vr.idaho.gov/event/resume-workshop-and-sharpen-your-interview-skills-post-falls/
END:VEVENT
BEGIN:VEVENT
DTSTART;TZID=America/Boise:20251210T110000
DTEND;TZID=America/Boise:20251210T140000
DTSTAMP:20260425T182200
CREATED:20260413T223454Z
LAST-MODIFIED:20260413T223454Z
UID:10001411-1765364400-1765375200@vr.idaho.gov
SUMMARY:Hiring Event in Idaho Falls
DESCRIPTION:
URL:https://vr.idaho.gov/event/hiring-event-in-idaho-falls-9/
END:VEVENT
BEGIN:VEVENT
DTSTART;TZID=America/Boise:20251209T110000
DTEND;TZID=America/Boise:20251209T140000
DTSTAMP:20260425T182200
CREATED:20260413T223454Z
LAST-MODIFIED:20260413T223454Z
UID:10001410-1765278000-1765288800@vr.idaho.gov
SUMMARY:Hiring Event in Rexburg
DESCRIPTION:
URL:https://vr.idaho.gov/event/hiring-event-in-rexburg-3/
END:VEVENT
BEGIN:VEVENT
DTSTART;VALUE=DATE:20251209
DTEND;VALUE=DATE:20251210
DTSTAMP:20260425T182200
CREATED:20260413T223455Z
LAST-MODIFIED:20260413T223455Z
UID:10001418-1765238400-1765324799@vr.idaho.gov
SUMMARY:Basic Computer Skills and Maximize Your Job Search - Post Falls
DESCRIPTION:
URL:https://vr.idaho.gov/event/basic-computer-skills-and-maximize-your-job-search-post-falls-3/
END:VEVENT
BEGIN:VEVENT
DTSTART;VALUE=DATE:20251209
DTEND;VALUE=DATE:20251210
DTSTAMP:20260425T182200
CREATED:20260413T223455Z
LAST-MODIFIED:20260413T223455Z
UID:10001419-1765238400-1765324799@vr.idaho.gov
SUMMARY:Resume Workshop - Lewiston
DESCRIPTION:
URL:https://vr.idaho.gov/event/resume-workshop-lewiston-2/
END:VEVENT
BEGIN:VEVENT
DTSTART;VALUE=DATE:20251204
DTEND;VALUE=DATE:20251205
DTSTAMP:20260425T182200
CREATED:20260413T223455Z
LAST-MODIFIED:20260413T223455Z
UID:10001417-1764806400-1764892799@vr.idaho.gov
SUMMARY:Basic Computer Skills and Maximize Your Job Search - Post Falls
DESCRIPTION:
URL:https://vr.idaho.gov/event/basic-computer-skills-and-maximize-your-job-search-post-falls-2/
END:VEVENT
BEGIN:VEVENT
DTSTART;TZID=America/Boise:20251203T120000
DTEND;TZID=America/Boise:20251203T140000
DTSTAMP:20260425T182200
CREATED:20260413T223454Z
LAST-MODIFIED:20260413T223454Z
UID:10001409-1764763200-1764770400@vr.idaho.gov
SUMMARY:Hiring Event in Twin Falls
DESCRIPTION:
URL:https://vr.idaho.gov/event/hiring-event-in-twin-falls-5/
END:VEVENT
BEGIN:VEVENT
DTSTART;VALUE=DATE:20251202
DTEND;VALUE=DATE:20251203
DTSTAMP:20260425T182200
CREATED:20260413T223455Z
LAST-MODIFIED:20260413T223455Z
UID:10001415-1764633600-1764719999@vr.idaho.gov
SUMMARY:Resume Workshop and Sharpen Your Interview Skills
DESCRIPTION:
URL:https://vr.idaho.gov/event/resume-workshop-and-sharpen-your-interview-skills/
END:VEVENT
BEGIN:VEVENT
DTSTART;VALUE=DATE:20251202
DTEND;VALUE=DATE:20251203
DTSTAMP:20260425T182200
CREATED:20260413T223455Z
LAST-MODIFIED:20260413T223455Z
UID:10001416-1764633600-1764719999@vr.idaho.gov
SUMMARY:Maximize Your Job Search - Lewiston
DESCRIPTION:
URL:https://vr.idaho.gov/event/maximize-your-job-search-lewiston/
END:VEVENT
BEGIN:VEVENT
DTSTART;VALUE=DATE:20251125
DTEND;VALUE=DATE:20251126
DTSTAMP:20260425T182200
CREATED:20260413T223455Z
LAST-MODIFIED:20260413T223455Z
UID:10001414-1764028800-1764115199@vr.idaho.gov
SUMMARY:Basic Computer Skills - Lewiston
DESCRIPTION:
URL:https://vr.idaho.gov/event/basic-computer-skills-lewiston/
END:VEVENT
BEGIN:VEVENT
DTSTART;VALUE=DATE:20251125
DTEND;VALUE=DATE:20251126
DTSTAMP:20260425T182200
CREATED:20260413T223454Z
LAST-MODIFIED:20260413T223454Z
UID:10001413-1764028800-1764115199@vr.idaho.gov
SUMMARY:Basic Computer Skills and Maximize Your Job Search - Post Falls
DESCRIPTION:
URL:https://vr.idaho.gov/event/basic-computer-skills-and-maximize-your-job-search-post-falls/
END:VEVENT
BEGIN:VEVENT
DTSTART;TZID=America/Boise:20251121T140000
DTEND;TZID=America/Boise:20251121T150000
DTSTAMP:20260425T182200
CREATED:20260413T223454Z
LAST-MODIFIED:20260413T223454Z
UID:10001408-1763733600-1763737200@vr.idaho.gov
SUMMARY:Resume Workshop in Caldwell from 2pm- 3pm (MT)
DESCRIPTION:
URL:https://vr.idaho.gov/event/resume-workshop-in-caldwell-from-2pm-3pm-mt/
END:VEVENT
BEGIN:VEVENT
DTSTART;TZID=America/Boise:20251121T130000
DTEND;TZID=America/Boise:20251121T140000
DTSTAMP:20260425T182200
CREATED:20260413T223454Z
LAST-MODIFIED:20260413T223454Z
UID:10001407-1763730000-1763733600@vr.idaho.gov
SUMMARY:Sharpen your Interview Skills in Caldwell from 1pm- 2pm (MT)
DESCRIPTION:
URL:https://vr.idaho.gov/event/sharpen-your-interview-skills-in-caldwell-from-1pm-2pm-mt/
END:VEVENT
BEGIN:VEVENT
DTSTART;TZID=America/Boise:20251120T140000
DTEND;TZID=America/Boise:20251120T153000
DTSTAMP:20260425T182200
CREATED:20260413T223453Z
LAST-MODIFIED:20260413T223453Z
UID:10001406-1763647200-1763652600@vr.idaho.gov
SUMMARY:Sharpen your Interview Skills in Boise from 2pm- 3:30pm (MT)
DESCRIPTION:
URL:https://vr.idaho.gov/event/sharpen-your-interview-skills-in-boise-from-2pm-330pm-mt/
END:VEVENT
BEGIN:VEVENT
DTSTART;TZID=America/Boise:20251119T140000
DTEND;TZID=America/Boise:20251119T153000
DTSTAMP:20260425T182200
CREATED:20260413T223453Z
LAST-MODIFIED:20260413T223453Z
UID:10001405-1763560800-1763566200@vr.idaho.gov
SUMMARY:Maximize your Job Search in Boise from 2pm- 3:30pm (MT)
DESCRIPTION:
URL:https://vr.idaho.gov/event/maximize-your-job-search-in-boise-from-2pm-330pm-mt/
END:VEVENT
BEGIN:VEVENT
DTSTART;TZID=America/Boise:20251118T140000
DTEND;TZID=America/Boise:20251118T153000
DTSTAMP:20260425T182200
CREATED:20260413T223453Z
LAST-MODIFIED:20260413T223453Z
UID:10001404-1763474400-1763479800@vr.idaho.gov
SUMMARY:Resume Workshop in Boise from 2pm- 3:30pm (MT)
DESCRIPTION:
URL:https://vr.idaho.gov/event/resume-workshop-in-boise-from-2pm-330pm-mt/
END:VEVENT
BEGIN:VEVENT
DTSTART;VALUE=DATE:20251118
DTEND;VALUE=DATE:20251119
DTSTAMP:20260425T182200
CREATED:20260413T223456Z
LAST-MODIFIED:20260413T223456Z
UID:10001421-1763424000-1763510399@vr.idaho.gov
SUMMARY:Career Goals Workshop Virtual
DESCRIPTION:
URL:https://vr.idaho.gov/event/career-goals-workshop-virtual/
END:VEVENT
BEGIN:VEVENT
DTSTART;VALUE=DATE:20251118
DTEND;VALUE=DATE:20251119
DTSTAMP:20260425T182200
CREATED:20260413T223454Z
LAST-MODIFIED:20260413T223455Z
UID:10001412-1763424000-1763510399@vr.idaho.gov
SUMMARY:Career Goals Workshop at North Idaho College
DESCRIPTION:
URL:https://vr.idaho.gov/event/career-goals-workshop-at-north-idaho-college/
END:VEVENT
BEGIN:VEVENT
DTSTART;TZID=America/Boise:20251114T140000
DTEND;TZID=America/Boise:20251114T150000
DTSTAMP:20260425T182200
CREATED:20260413T223446Z
LAST-MODIFIED:20260413T223446Z
UID:10001365-1763128800-1763132400@vr.idaho.gov
SUMMARY:Maximize Your Job Search Workshop in Caldwell
DESCRIPTION:
URL:https://vr.idaho.gov/event/maximize-your-job-search-workshop-in-caldwell-15/
END:VEVENT
BEGIN:VEVENT
DTSTART;TZID=America/Boise:20251114T130000
DTEND;TZID=America/Boise:20251114T140000
DTSTAMP:20260425T182200
CREATED:20260413T223446Z
LAST-MODIFIED:20260413T223446Z
UID:10001364-1763125200-1763128800@vr.idaho.gov
SUMMARY:Computer Basics for Job Seekers in Caldwell
DESCRIPTION:
URL:https://vr.idaho.gov/event/computer-basics-for-job-seekers-in-caldwell-13/
END:VEVENT
BEGIN:VEVENT
DTSTART;TZID=America/Boise:20251113T140000
DTEND;TZID=America/Boise:20251113T153000
DTSTAMP:20260425T182200
CREATED:20260413T223446Z
LAST-MODIFIED:20260413T223446Z
UID:10001363-1763042400-1763047800@vr.idaho.gov
SUMMARY:Interviewing Workshop in Boise
DESCRIPTION:
URL:https://vr.idaho.gov/event/interviewing-workshop-in-boise-22/
END:VEVENT
BEGIN:VEVENT
DTSTART;TZID=America/Boise:20251112T140000
DTEND;TZID=America/Boise:20251112T150000
DTSTAMP:20260425T182200
CREATED:20260413T223446Z
LAST-MODIFIED:20260413T223446Z
UID:10001362-1762956000-1762959600@vr.idaho.gov
SUMMARY:Virtual Interviewing Workshop
DESCRIPTION:
URL:https://vr.idaho.gov/event/virtual-interviewing-workshop-26/
END:VEVENT
BEGIN:VEVENT
DTSTART;TZID=America/Boise:20251107T140000
DTEND;TZID=America/Boise:20251107T150000
DTSTAMP:20260425T182200
CREATED:20260413T223445Z
LAST-MODIFIED:20260413T223445Z
UID:10001361-1762524000-1762527600@vr.idaho.gov
SUMMARY:Resume Workshop in Caldwell
DESCRIPTION:
URL:https://vr.idaho.gov/event/resume-workshop-in-caldwell-15/
END:VEVENT
BEGIN:VEVENT
DTSTART;TZID=America/Boise:20251107T130000
DTEND;TZID=America/Boise:20251107T140000
DTSTAMP:20260425T182200
CREATED:20260413T223445Z
LAST-MODIFIED:20260413T223445Z
UID:10001360-1762520400-1762524000@vr.idaho.gov
SUMMARY:Practice Interviewing Workshop in Caldwell
DESCRIPTION:
URL:https://vr.idaho.gov/event/practice-interviewing-workshop-in-caldwell-16/
END:VEVENT
END:VCALENDAR