BEGIN:VCALENDAR
VERSION:2.0
PRODID:-//Idaho Division of Vocational Rehabilitation - ECPv6.15.20//NONSGML v1.0//EN
CALSCALE:GREGORIAN
METHOD:PUBLISH
X-WR-CALNAME:Idaho Division of Vocational Rehabilitation
X-ORIGINAL-URL:https://vr.idaho.gov
X-WR-CALDESC:Events for Idaho Division of Vocational Rehabilitation
REFRESH-INTERVAL;VALUE=DURATION:PT1H
X-Robots-Tag:noindex
X-PUBLISHED-TTL:PT1H
BEGIN:VTIMEZONE
TZID:America/Boise
BEGIN:DAYLIGHT
TZOFFSETFROM:-0700
TZOFFSETTO:-0600
TZNAME:MDT
DTSTART:20250309T090000
END:DAYLIGHT
BEGIN:STANDARD
TZOFFSETFROM:-0600
TZOFFSETTO:-0700
TZNAME:MST
DTSTART:20251102T080000
END:STANDARD
BEGIN:DAYLIGHT
TZOFFSETFROM:-0700
TZOFFSETTO:-0600
TZNAME:MDT
DTSTART:20260308T090000
END:DAYLIGHT
BEGIN:STANDARD
TZOFFSETFROM:-0600
TZOFFSETTO:-0700
TZNAME:MST
DTSTART:20261101T080000
END:STANDARD
BEGIN:DAYLIGHT
TZOFFSETFROM:-0700
TZOFFSETTO:-0600
TZNAME:MDT
DTSTART:20270314T090000
END:DAYLIGHT
BEGIN:STANDARD
TZOFFSETFROM:-0600
TZOFFSETTO:-0700
TZNAME:MST
DTSTART:20271107T080000
END:STANDARD
END:VTIMEZONE
BEGIN:VEVENT
DTSTART;VALUE=DATE:20260331
DTEND;VALUE=DATE:20260401
DTSTAMP:20260425T085707
CREATED:20260413T223502Z
LAST-MODIFIED:20260413T223502Z
UID:10001457-1774915200-1775001599@vr.idaho.gov
SUMMARY:Resume Workshop in Boise
DESCRIPTION:
URL:https://vr.idaho.gov/event/resume-workshop-in-boise-21/
END:VEVENT
BEGIN:VEVENT
DTSTART;VALUE=DATE:20260327
DTEND;VALUE=DATE:20260328
DTSTAMP:20260425T085707
CREATED:20260413T223502Z
LAST-MODIFIED:20260413T223502Z
UID:10001456-1774569600-1774655999@vr.idaho.gov
SUMMARY:Maximize Your Job Search in Caldwell
DESCRIPTION:
URL:https://vr.idaho.gov/event/maximize-your-job-search-in-caldwell-4/
END:VEVENT
BEGIN:VEVENT
DTSTART;VALUE=DATE:20260327
DTEND;VALUE=DATE:20260328
DTSTAMP:20260425T085707
CREATED:20260413T223501Z
LAST-MODIFIED:20260413T223501Z
UID:10001455-1774569600-1774655999@vr.idaho.gov
SUMMARY:Basic Computer Skills in Caldwell
DESCRIPTION:
URL:https://vr.idaho.gov/event/basic-computer-skills-in-caldwell-3/
END:VEVENT
BEGIN:VEVENT
DTSTART;VALUE=DATE:20260326
DTEND;VALUE=DATE:20260327
DTSTAMP:20260425T085707
CREATED:20260413T223501Z
LAST-MODIFIED:20260413T223501Z
UID:10001454-1774483200-1774569599@vr.idaho.gov
SUMMARY:Sharpen Your Interview Skills in Boise
DESCRIPTION:
URL:https://vr.idaho.gov/event/sharpen-your-interview-skills-in-boise/
END:VEVENT
BEGIN:VEVENT
DTSTART;VALUE=DATE:20260320
DTEND;VALUE=DATE:20260321
DTSTAMP:20260425T085707
CREATED:20260413T223501Z
LAST-MODIFIED:20260413T223501Z
UID:10001452-1773964800-1774051199@vr.idaho.gov
SUMMARY:Sharpen Your Interview Skills in Caldwell
DESCRIPTION:
URL:https://vr.idaho.gov/event/sharpen-your-interview-skills-in-caldwell-3/
END:VEVENT
BEGIN:VEVENT
DTSTART;VALUE=DATE:20260320
DTEND;VALUE=DATE:20260321
DTSTAMP:20260425T085707
CREATED:20260413T223501Z
LAST-MODIFIED:20260413T223501Z
UID:10001453-1773964800-1774051199@vr.idaho.gov
SUMMARY:Resume Workshop in Caldwell
DESCRIPTION:
URL:https://vr.idaho.gov/event/resume-workshop-in-caldwell-17/
END:VEVENT
BEGIN:VEVENT
DTSTART;VALUE=DATE:20260318
DTEND;VALUE=DATE:20260319
DTSTAMP:20260425T085707
CREATED:20260413T223501Z
LAST-MODIFIED:20260413T223501Z
UID:10001451-1773792000-1773878399@vr.idaho.gov
SUMMARY:Maximize Your Job Search in Boise
DESCRIPTION:
URL:https://vr.idaho.gov/event/maximize-your-job-search-in-boise/
END:VEVENT
BEGIN:VEVENT
DTSTART;VALUE=DATE:20260313
DTEND;VALUE=DATE:20260314
DTSTAMP:20260425T085707
CREATED:20260413T223500Z
LAST-MODIFIED:20260413T223500Z
UID:10001449-1773360000-1773446399@vr.idaho.gov
SUMMARY:Basic Computer Skills in Caldwell
DESCRIPTION:
URL:https://vr.idaho.gov/event/basic-computer-skills-in-caldwell-2/
END:VEVENT
BEGIN:VEVENT
DTSTART;VALUE=DATE:20260313
DTEND;VALUE=DATE:20260314
DTSTAMP:20260425T085707
CREATED:20260413T223500Z
LAST-MODIFIED:20260413T223500Z
UID:10001450-1773360000-1773446399@vr.idaho.gov
SUMMARY:Maximize Your Job Search in Caldwell
DESCRIPTION:
URL:https://vr.idaho.gov/event/maximize-your-job-search-in-caldwell-3/
END:VEVENT
BEGIN:VEVENT
DTSTART;VALUE=DATE:20260306
DTEND;VALUE=DATE:20260307
DTSTAMP:20260425T085707
CREATED:20260413T223500Z
LAST-MODIFIED:20260413T223500Z
UID:10001447-1772755200-1772841599@vr.idaho.gov
SUMMARY:Sharpen Your Interview Skills in Caldwell
DESCRIPTION:
URL:https://vr.idaho.gov/event/sharpen-your-interview-skills-in-caldwell-2/
END:VEVENT
BEGIN:VEVENT
DTSTART;VALUE=DATE:20260306
DTEND;VALUE=DATE:20260307
DTSTAMP:20260425T085707
CREATED:20260413T223500Z
LAST-MODIFIED:20260413T223500Z
UID:10001448-1772755200-1772841599@vr.idaho.gov
SUMMARY:Resume Workshop in Caldwell
DESCRIPTION:
URL:https://vr.idaho.gov/event/resume-workshop-in-caldwell-16/
END:VEVENT
BEGIN:VEVENT
DTSTART;VALUE=DATE:20260227
DTEND;VALUE=DATE:20260228
DTSTAMP:20260425T085707
CREATED:20260413T223500Z
LAST-MODIFIED:20260413T223500Z
UID:10001445-1772150400-1772236799@vr.idaho.gov
SUMMARY:Basic Computer Skills in Caldwell
DESCRIPTION:
URL:https://vr.idaho.gov/event/basic-computer-skills-in-caldwell/
END:VEVENT
BEGIN:VEVENT
DTSTART;VALUE=DATE:20260227
DTEND;VALUE=DATE:20260228
DTSTAMP:20260425T085707
CREATED:20260413T223500Z
LAST-MODIFIED:20260413T223500Z
UID:10001446-1772150400-1772236799@vr.idaho.gov
SUMMARY:Maximize Your Job Search in Caldwell
DESCRIPTION:
URL:https://vr.idaho.gov/event/maximize-your-job-search-in-caldwell-2/
END:VEVENT
BEGIN:VEVENT
DTSTART;VALUE=DATE:20260226
DTEND;VALUE=DATE:20260227
DTSTAMP:20260425T085707
CREATED:20260413T223458Z
LAST-MODIFIED:20260413T223458Z
UID:10001438-1772064000-1772150399@vr.idaho.gov
SUMMARY:Resume Workshop and Sharpen Your Interview Skills in Post Falls
DESCRIPTION:
URL:https://vr.idaho.gov/event/resume-workshop-and-sharpen-your-interview-skills-in-post-falls-4/
END:VEVENT
BEGIN:VEVENT
DTSTART;VALUE=DATE:20260225
DTEND;VALUE=DATE:20260226
DTSTAMP:20260425T085707
CREATED:20260413T223459Z
LAST-MODIFIED:20260413T223459Z
UID:10001444-1771977600-1772063999@vr.idaho.gov
SUMMARY:Hiring Event in Boise
DESCRIPTION:
URL:https://vr.idaho.gov/event/hiring-event-in-boise-2/
END:VEVENT
BEGIN:VEVENT
DTSTART;VALUE=DATE:20260224
DTEND;VALUE=DATE:20260225
DTSTAMP:20260425T085707
CREATED:20260413T223458Z
LAST-MODIFIED:20260413T223458Z
UID:10001436-1771891200-1771977599@vr.idaho.gov
SUMMARY:Basic Computer Skills and Maximize Your Job Search in Post Falls
DESCRIPTION:
URL:https://vr.idaho.gov/event/basic-computer-skills-and-maximize-your-job-search-in-post-falls-2/
END:VEVENT
BEGIN:VEVENT
DTSTART;VALUE=DATE:20260224
DTEND;VALUE=DATE:20260225
DTSTAMP:20260425T085707
CREATED:20260413T223458Z
LAST-MODIFIED:20260413T223458Z
UID:10001437-1771891200-1771977599@vr.idaho.gov
SUMMARY:Basic Computer Skills in Lewiston
DESCRIPTION:
URL:https://vr.idaho.gov/event/basic-computer-skills-in-lewiston/
END:VEVENT
BEGIN:VEVENT
DTSTART;VALUE=DATE:20260220
DTEND;VALUE=DATE:20260221
DTSTAMP:20260425T085707
CREATED:20260413T223459Z
LAST-MODIFIED:20260413T223459Z
UID:10001443-1771545600-1771631999@vr.idaho.gov
SUMMARY:Sharpen Your Interview Skills in Caldwell
DESCRIPTION:
URL:https://vr.idaho.gov/event/sharpen-your-interview-skills-in-caldwell/
END:VEVENT
BEGIN:VEVENT
DTSTART;VALUE=DATE:20260219
DTEND;VALUE=DATE:20260220
DTSTAMP:20260425T085707
CREATED:20260413T223458Z
LAST-MODIFIED:20260413T223458Z
UID:10001435-1771459200-1771545599@vr.idaho.gov
SUMMARY:Resume Workshop and Sharpen Your Interview Skills in Post Falls
DESCRIPTION:
URL:https://vr.idaho.gov/event/resume-workshop-and-sharpen-your-interview-skills-in-post-falls-3/
END:VEVENT
BEGIN:VEVENT
DTSTART;VALUE=DATE:20260217
DTEND;VALUE=DATE:20260218
DTSTAMP:20260425T085707
CREATED:20260413T223458Z
LAST-MODIFIED:20260413T223458Z
UID:10001434-1771286400-1771372799@vr.idaho.gov
SUMMARY:Sharpen Your Interview Skills in Lewiston
DESCRIPTION:
URL:https://vr.idaho.gov/event/sharpen-your-interview-skills-in-lewiston/
END:VEVENT
BEGIN:VEVENT
DTSTART;VALUE=DATE:20260211
DTEND;VALUE=DATE:20260212
DTSTAMP:20260425T085707
CREATED:20260413T223458Z
LAST-MODIFIED:20260413T223458Z
UID:10001433-1770768000-1770854399@vr.idaho.gov
SUMMARY:Hiring Event in Coeur d'Alene
DESCRIPTION:
URL:https://vr.idaho.gov/event/hiring-event-in-coeur-dalene-4/
END:VEVENT
BEGIN:VEVENT
DTSTART;VALUE=DATE:20260210
DTEND;VALUE=DATE:20260211
DTSTAMP:20260425T085707
CREATED:20260413T223458Z
LAST-MODIFIED:20260413T223458Z
UID:10001432-1770681600-1770767999@vr.idaho.gov
SUMMARY:Resume Workshop in Lewiston
DESCRIPTION:
URL:https://vr.idaho.gov/event/resume-workshop-in-lewiston-8/
END:VEVENT
BEGIN:VEVENT
DTSTART;VALUE=DATE:20260210
DTEND;VALUE=DATE:20260211
DTSTAMP:20260425T085707
CREATED:20260413T223457Z
LAST-MODIFIED:20260413T223457Z
UID:10001431-1770681600-1770767999@vr.idaho.gov
SUMMARY:Resume Workshop and Sharpen Your Interview Skills in Post Falls
DESCRIPTION:
URL:https://vr.idaho.gov/event/resume-workshop-and-sharpen-your-interview-skills-in-post-falls-2/
END:VEVENT
BEGIN:VEVENT
DTSTART;VALUE=DATE:20260205
DTEND;VALUE=DATE:20260206
DTSTAMP:20260425T085707
CREATED:20260413T223457Z
LAST-MODIFIED:20260413T223457Z
UID:10001430-1770249600-1770335999@vr.idaho.gov
SUMMARY:Basic Computer Skills and Maximize Your Job Search in Post Falls
DESCRIPTION:
URL:https://vr.idaho.gov/event/basic-computer-skills-and-maximize-your-job-search-in-post-falls/
END:VEVENT
BEGIN:VEVENT
DTSTART;VALUE=DATE:20260203
DTEND;VALUE=DATE:20260204
DTSTAMP:20260425T085707
CREATED:20260413T223457Z
LAST-MODIFIED:20260413T223457Z
UID:10001428-1770076800-1770163199@vr.idaho.gov
SUMMARY:Resume Workshop and Sharpen Your Interview Skills in Post Falls
DESCRIPTION:
URL:https://vr.idaho.gov/event/resume-workshop-and-sharpen-your-interview-skills-in-post-falls/
END:VEVENT
BEGIN:VEVENT
DTSTART;VALUE=DATE:20260203
DTEND;VALUE=DATE:20260204
DTSTAMP:20260425T085707
CREATED:20260413T223457Z
LAST-MODIFIED:20260413T223457Z
UID:10001429-1770076800-1770163199@vr.idaho.gov
SUMMARY:Maximize Your Job Search in Lewiston
DESCRIPTION:
URL:https://vr.idaho.gov/event/maximize-your-job-search-in-lewiston/
END:VEVENT
BEGIN:VEVENT
DTSTART;VALUE=DATE:20260121
DTEND;VALUE=DATE:20260122
DTSTAMP:20260425T085707
CREATED:20260413T223457Z
LAST-MODIFIED:20260413T223457Z
UID:10001427-1768953600-1769039999@vr.idaho.gov
SUMMARY:Idaho Falls Hiring Event
DESCRIPTION:
URL:https://vr.idaho.gov/event/idaho-falls-hiring-event-15/
END:VEVENT
BEGIN:VEVENT
DTSTART;VALUE=DATE:20260114
DTEND;VALUE=DATE:20260115
DTSTAMP:20260425T085707
CREATED:20260413T223457Z
LAST-MODIFIED:20260413T223457Z
UID:10001426-1768348800-1768435199@vr.idaho.gov
SUMMARY:Rexburg Hiring Event
DESCRIPTION:
URL:https://vr.idaho.gov/event/rexburg-hiring-event-6/
END:VEVENT
BEGIN:VEVENT
DTSTART;VALUE=DATE:20260107
DTEND;VALUE=DATE:20260108
DTSTAMP:20260425T085707
CREATED:20260413T223456Z
LAST-MODIFIED:20260413T223456Z
UID:10001425-1767744000-1767830399@vr.idaho.gov
SUMMARY:Idaho Falls Hiring Event
DESCRIPTION:
URL:https://vr.idaho.gov/event/idaho-falls-hiring-event-14/
END:VEVENT
BEGIN:VEVENT
DTSTART;TZID=America/Boise:20260102T110000
DTEND;TZID=America/Boise:20260102T140000
DTSTAMP:20260425T085707
CREATED:20260413T223459Z
LAST-MODIFIED:20260413T223459Z
UID:10001440-1767351600-1767362400@vr.idaho.gov
SUMMARY:CWI Career Fair in Boise
DESCRIPTION:
URL:https://vr.idaho.gov/event/cwi-career-fair-in-boise/
END:VEVENT
END:VCALENDAR